BEGIN:VCALENDAR
VERSION:2.0
PRODID:icalendar-ruby
CALSCALE:GREGORIAN
METHOD:PUBLISH
BEGIN:VEVENT
DTSTAMP:20200301T180034Z
UID:http://www.boutiqueestate.com.au/property?property_id=497295
DTSTART:20191214T140000
DTEND:20191214T143000
CLASS:PUBLIC
CREATED:20191121T155114
DESCRIPTION: 
LAST-MODIFIED:20200121T210559
LOCATION:151 Brady Road\, DANDENONG NORTH VIC 3175\, Australia
SUMMARY:151 Brady Road\,  Auction
URL:http://www.boutiqueestate.com.au/property?property_id=497295
END:VEVENT
END:VCALENDAR
