BEGIN:VCALENDAR
VERSION:2.0
PRODID:icalendar-ruby
CALSCALE:GREGORIAN
METHOD:PUBLISH
BEGIN:VEVENT
DTSTAMP:20200301T180100Z
UID:http://www.boutiqueestate.com.au/property?property_id=496845
DTSTART:20191214T110000
DTEND:20191214T113000
CLASS:PUBLIC
CREATED:20191119T192333
DESCRIPTION: 
LAST-MODIFIED:20191217T231536
LOCATION:7 Opal Court\, MULGRAVE VIC 3170\, Australia
SUMMARY:7 Opal Court\,  Auction
URL:http://www.boutiqueestate.com.au/property?property_id=496845
END:VEVENT
END:VCALENDAR
