BEGIN:VCALENDAR
VERSION:2.0
PRODID:icalendar-ruby
CALSCALE:GREGORIAN
METHOD:PUBLISH
BEGIN:VEVENT
DTSTAMP:20200301T180206Z
UID:http://www.boutiqueestate.com.au/property?property_id=484644
DTSTART:20191130T150000
DTEND:20191130T153000
CLASS:PUBLIC
CREATED:20191107T131112
DESCRIPTION: 
LAST-MODIFIED:20191217T225929
LOCATION:21 Browns Road\, NOBLE PARK NORTH VIC 3174\, Australia
SUMMARY:21 Browns Road\,  Auction
URL:http://www.boutiqueestate.com.au/property?property_id=484644
END:VEVENT
END:VCALENDAR
