BEGIN:VCALENDAR
VERSION:2.0
PRODID:icalendar-ruby
CALSCALE:GREGORIAN
METHOD:PUBLISH
BEGIN:VEVENT
DTSTAMP:20260424T153631Z
UID:http://www.boutiqueestate.com.au/property?property_id=467223
DTSTART:20191121T190000
DTEND:20191121T193000
CLASS:PUBLIC
CREATED:20191004T192606
DESCRIPTION: 
LAST-MODIFIED:20191217T225529
LOCATION:91 Mcfees Road\, DANDENONG NORTH VIC 3175\, Australia
SUMMARY:91 Mcfees Road\,  Auction
URL;VALUE=URI:http://www.boutiqueestate.com.au/property?property_id=467223
END:VEVENT
END:VCALENDAR
