BEGIN:VCALENDAR
VERSION:2.0
PRODID:icalendar-ruby
CALSCALE:GREGORIAN
METHOD:PUBLISH
BEGIN:VEVENT
DTSTAMP:20200301T180659Z
UID:http://www.boutiqueestate.com.au/property?property_id=399501
DTSTART:20190601T133000
DTEND:20190601T140000
CLASS:PUBLIC
CREATED:20190507T202528
DESCRIPTION: 
LAST-MODIFIED:20190515T150245
LOCATION:74 Fillmore Road\, DANDENONG NORTH VIC 3175\, Australia
SUMMARY:74 Fillmore Road\,  Auction
URL:http://www.boutiqueestate.com.au/property?property_id=399501
END:VEVENT
END:VCALENDAR
