BEGIN:VCALENDAR
VERSION:2.0
PRODID:icalendar-ruby
CALSCALE:GREGORIAN
METHOD:PUBLISH
BEGIN:VEVENT
DTSTAMP:20260422T071732Z
UID:http://www.boutiqueestate.com.au/property?property_id=1757808
DTSTART:20260516T120000
DTEND:20260516T123000
CLASS:PUBLIC
CREATED:20260410T152907
DESCRIPTION: 
LAST-MODIFIED:20260422T134312
LOCATION:24 Buldah Street\, DANDENONG NORTH VIC 3175\, Australia
SUMMARY:24 Buldah Street\,  Auction
URL;VALUE=URI:http://www.boutiqueestate.com.au/property?property_id=1757808
END:VEVENT
END:VCALENDAR
